BEGIN:VCALENDAR
VERSION:2.0
PRODID:-//Janisse Ray - ECPv6.15.18//NONSGML v1.0//EN
CALSCALE:GREGORIAN
METHOD:PUBLISH
X-WR-CALNAME:Janisse Ray
X-ORIGINAL-URL:https://janisseray.com
X-WR-CALDESC:Events for Janisse Ray
REFRESH-INTERVAL;VALUE=DURATION:PT1H
X-Robots-Tag:noindex
X-PUBLISHED-TTL:PT1H
BEGIN:VTIMEZONE
TZID:America/New_York
BEGIN:DAYLIGHT
TZOFFSETFROM:-0500
TZOFFSETTO:-0400
TZNAME:EDT
DTSTART:20230312T070000
END:DAYLIGHT
BEGIN:STANDARD
TZOFFSETFROM:-0400
TZOFFSETTO:-0500
TZNAME:EST
DTSTART:20231105T060000
END:STANDARD
BEGIN:DAYLIGHT
TZOFFSETFROM:-0500
TZOFFSETTO:-0400
TZNAME:EDT
DTSTART:20240310T070000
END:DAYLIGHT
BEGIN:STANDARD
TZOFFSETFROM:-0400
TZOFFSETTO:-0500
TZNAME:EST
DTSTART:20241103T060000
END:STANDARD
BEGIN:DAYLIGHT
TZOFFSETFROM:-0500
TZOFFSETTO:-0400
TZNAME:EDT
DTSTART:20250309T070000
END:DAYLIGHT
BEGIN:STANDARD
TZOFFSETFROM:-0400
TZOFFSETTO:-0500
TZNAME:EST
DTSTART:20251102T060000
END:STANDARD
END:VTIMEZONE
BEGIN:VEVENT
DTSTART;TZID=America/New_York:20240907T090000
DTEND;TZID=America/New_York:20240907T130000
DTSTAMP:20260422T060912
CREATED:20240702T171032Z
LAST-MODIFIED:20240702T171032Z
UID:1047-1725699600-1725714000@janisseray.com
SUMMARY:Workshop | Write Your Own Story | Saturday\, Sept. 7\, 2024 | 9-1 Eastern Time
DESCRIPTION:$77 | Sunday\, July 14\, 2024 | 2-6 pm Eastern Time | Live via Zoom \nYou received a treasure of stories from your ancestors\, your childhood\, your life\, places you lived\, people you knew\, your own children\, your opportunities. \nYou’d like to get them down on paper. That keeps you up at night. Sometimes it’s hard to know where to start. It’s hard to keep going once you get a few words. It feels like WORK when it should be FUN. \nLet me help you Write Your Own Story. \nThis is a 4-hour memoir workshop for writers of all levels. No experience needed. \nAll you need is a desire to get your stories down on paper for children\, grandchildren\, family\, friends\, and the reading public—while you can. \nNo Life Is Too Large\, No Life Is Too Small. Everybody has amazing stories. All you have to do is recognize them. \nWHAT YOU GET \n\n4 hours of guidance on writing structure\, technique\, and craft\nA dozen writing prompts\nUseful handouts in pdf form\nA work plan for putting stories together\nHonest\, authentic interest in your story & belief in you\nOpportunities to ask questions of Janisse Ray\nEngagement with other writers\nWays to make this fun\n\nYOUR INVESTMENT \n\n$77\n4 hours of your time\nSincere desire to write your stories\nCommitment to write during our time together\n\nWHAT YOU LEAVE WITH \n\nAt least a dozen new pieces of stories that may be used alone or in a larger work\nInformation that clarifies where you are & where you need to go\nThe toolbox you need to put a larger work together
URL:https://janisseray.com/event/workshop-write-your-own-story-saturday-sept-7-2024-9-1-eastern-time/
LOCATION:Online via Zoom
ATTACH;FMTTYPE=image/jpeg:https://janisseray.com/wp-content/uploads/2023/05/writing_close_up_landscape.jpeg
END:VEVENT
BEGIN:VEVENT
DTSTART;VALUE=DATE:20240920
DTEND;VALUE=DATE:20240922
DTSTAMP:20260422T060912
CREATED:20240429T161939Z
LAST-MODIFIED:20240502T224329Z
UID:945-1726790400-1726963199@janisseray.com
SUMMARY:Slow Exposures Photography Exhibit | Zebulon\, GA
DESCRIPTION:
URL:https://janisseray.com/event/slow-exposures-photography-exhibit/
END:VEVENT
BEGIN:VEVENT
DTSTART;VALUE=DATE:20240921
DTEND;VALUE=DATE:20240923
DTSTAMP:20260422T060912
CREATED:20240601T181747Z
LAST-MODIFIED:20240601T181747Z
UID:997-1726876800-1727049599@janisseray.com
SUMMARY:Ideas Festival Emory | Oxford @ Emory | Sept. 22\, 2024
DESCRIPTION:Janisse and chef Virgina Willis will team up on the stage to bring you a session of inspiration\, humor\, and great story. They’ll be coming on as part of the brand-new Ideas Festival Emory\, organized by Daren Wang (of Decatur Book Festival fame.) This is a weekend not to miss.
URL:https://janisseray.com/event/ideas-festival-emory-oxford-emory-sept-22-2024/
END:VEVENT
BEGIN:VEVENT
DTSTART;VALUE=DATE:20240927
DTEND;VALUE=DATE:20240930
DTSTAMP:20260422T060912
CREATED:20240701T172451Z
LAST-MODIFIED:20240701T172834Z
UID:1035-1727395200-1727654399@janisseray.com
SUMMARY:2024 Storyfest | South Carolina Writers Association | Columbia\, SC | Sept. 27-29
DESCRIPTION:I’ll be teaching a Magical Craft Masterclass at the 2024 Storyfest. This is a really wonderful conference\, one of the best I’ve attended in a long while. It’s geared toward genre authors\, but there’s a ton of good programming for literary folks. Last year was my first time going–I was invited to give a keynote\, which is how I heard about Storyfest. I truly enjoyed myself and met some wonderful people\, many of whom I’m still in contact with. So I worked hard to get invited back this year. I’m not giving a keynote but I am teaching a Masterclass on Friday from 1-3:30\, and the rest of the weekend I’ll have a table set up in the vendor’s area with copies of Craft & Current: A Manual for Magical Writing. If you decide to attend\, please stop by my booth and let’s have a chat.
URL:https://janisseray.com/event/2024-storyfest-south-carolina-writers-association-columbia-sc-sept-27-29/
LOCATION:DoubleTree by Hilton Columbia SC
END:VEVENT
END:VCALENDAR