BEGIN:VCALENDAR
VERSION:2.0
PRODID:-//Janisse Ray - ECPv6.15.18//NONSGML v1.0//EN
CALSCALE:GREGORIAN
METHOD:PUBLISH
X-ORIGINAL-URL:https://janisseray.com
X-WR-CALDESC:Events for Janisse Ray
REFRESH-INTERVAL;VALUE=DURATION:PT1H
X-Robots-Tag:noindex
X-PUBLISHED-TTL:PT1H
BEGIN:VTIMEZONE
TZID:America/New_York
BEGIN:DAYLIGHT
TZOFFSETFROM:-0500
TZOFFSETTO:-0400
TZNAME:EDT
DTSTART:20240310T070000
END:DAYLIGHT
BEGIN:STANDARD
TZOFFSETFROM:-0400
TZOFFSETTO:-0500
TZNAME:EST
DTSTART:20241103T060000
END:STANDARD
BEGIN:DAYLIGHT
TZOFFSETFROM:-0500
TZOFFSETTO:-0400
TZNAME:EDT
DTSTART:20250309T070000
END:DAYLIGHT
BEGIN:STANDARD
TZOFFSETFROM:-0400
TZOFFSETTO:-0500
TZNAME:EST
DTSTART:20251102T060000
END:STANDARD
BEGIN:DAYLIGHT
TZOFFSETFROM:-0500
TZOFFSETTO:-0400
TZNAME:EDT
DTSTART:20260308T070000
END:DAYLIGHT
BEGIN:STANDARD
TZOFFSETFROM:-0400
TZOFFSETTO:-0500
TZNAME:EST
DTSTART:20261101T060000
END:STANDARD
END:VTIMEZONE
BEGIN:VEVENT
DTSTART;TZID=America/New_York:20250510T140000
DTEND;TZID=America/New_York:20250510T160000
DTSTAMP:20260422T074548
CREATED:20250407T212759Z
LAST-MODIFIED:20250407T213015Z
UID:1634-1746885600-1746892800@janisseray.com
SUMMARY:Poetry Society of Tennessee Workshop via Zoom | Nature Poetry
DESCRIPTION:In PST’s May 10 meeting\, join acclaimed author Janisse Ray for an engaging 1-hour workshop in which you explore the intersection of poetry and nature. Janisse will guide you through creative exercises using the natural world as inspiration. By sharing techniques for vivid imagery\, sensory language\, and metaphor\, she will empower you to bring a passion for nature into poetic form. Whether you are a seasoned poet or new to writing\, you will leave this workshop with \n1) copies of nature poems to inspire you; \n2) drafts for a few of your own nature poems; and \n3) a better awareness of your voice as an eco-poet. \nMEETING INFORMATION \nThis program will be presented during our upcoming PST member meeting\, to be held May 10\, 2025\, from 2:00-4:00 pm Eastern / 1:00-3:00 pm Central via Zoom. Members will be provided a link a few days prior. \nThe workshop is open to members of the Poetry Society of Tennessee. Free to members. \nTo become a member\, fill out this form: \nhttps://docs.google.com/forms/d/e/1FAIpQLSdnIYFLni78PHKlFjnbTuIu5gjiondvGJNyEcosSYjdKPrJaw/viewform \nIf you are interested in learning more about PST\, check out our website. \nIf you’d like to attend our meeting as a guest\, contact us at poetrytennessee@gmail.com.
URL:https://janisseray.com/event/poetry-society-of-tennessee-workshop-via-zoom-nature-poetry/
LOCATION:Online via Zoom
END:VEVENT
BEGIN:VEVENT
DTSTART;TZID=America/New_York:20250531T100000
DTEND;TZID=America/New_York:20250531T110000
DTSTAMP:20260422T074548
CREATED:20250531T140047Z
LAST-MODIFIED:20250503T162731Z
UID:1723-1748685600-1748689200@janisseray.com
SUMMARY:On Place | Talk to Historic Macon Foundation | May 31 | Macon\, Georgia
DESCRIPTION:Historic Macon is excited to host American writer\, naturalist\, and environmental activist Janisse Ray for a special Writer Talk on May 31 at 10 a.m. \nA place has a story and a person has a story\, and something important is happening at the intersection of the two. Janisse Ray is passionate about place\, and her place is the coastal plains of southern Georgia. She will talk about why place matters and why embark on a journey to become a scholar of your place. \nA deep relationship with place will deepen your sense of belonging\, build more meaning into your life\, and strengthen the fabric of living things around you. But questions abound—How do we live in place? How do we get to know our place? How do we feel grounded? What happens to us if we live a life without a relationship to any place? Can we have more than one place? What if we’re out of place? \nCome hear Janisse’s engaging talk on the important of place in our lives. \nTickets for this event are $10. HMF members\, email membership@historicmacon.org for a special discount code! \nPLEASE NOTE: We use Zeffy because they do not charge us fees for paid tickets. When you buy your ticket\, they will ask if you would like to make an additional donation. You do not have to do this to purchase a ticket. If you do not wish to make an additional donation to Zeffy to offset the costs they incur by not charging us fees\, click on the dropdown menu\, go to “Other” and type in a zero. You will then be charged for only your ticket\, nothing more. Thanks!
URL:https://janisseray.com/event/on-place-talk-to-historic-macon-foundation-10-a-m/
END:VEVENT
END:VCALENDAR